Workbook

Sheet 2026级推免生本科平均学分绩点在硕士一级学科排名第一
A1: 2026级推荐免试生本科阶段平均学分绩点在硕士一级学科排名第一（含并列第一）名单
A2: 序号 | B2: 考试方式 | C2: 学号 | D2: 姓名 | E2: 录取院系 | F2: 录取专业 | G2: 录取专业代码 | H2: 录取学习方式 | I2: 一级学科 | J2: 本科期间所有学年平均学分绩点
A3: 1 | B3: 推荐免试 | C3: 20262036005 | D3: 张斗芬 | E3: 林学与风景园林学院 | F3: 草学 | G3: 090900 | H3: 全日制学术硕士 | I3: 草学 | J3: 4.13
A4: 2 | B4: 推荐免试 | C4: 20262024030 | D4: 张静雯 | E4: 动物科学学院 | F4: 动物遗传育种与繁殖 | G4: 090501 | H4: 全日制学术硕士 | I4: 畜牧学 | J4: 4.55
A5: 3 | B5: 推荐免试 | C5: 20263169022 | D5: 邵卓明 | E5: 人工智能与低空技术学院 | F5: 新一代电子信息技术（含量子技术等） | G5: 085401 | H5: 全日制专业硕士 | I5: 电子信息 | J5: 4.26
A6: 4 | B6: 推荐免试 | C6: 20263192025 | D6: 熊畅畅 | E6: 外国语学院 | F6: 英语笔译 | G6: 055101 | H6: 全日制专业硕士 | I6: 翻译 | J6: 4.24
A7: 5 | B7: 推荐免试 | C7: 20263191031 | D7: 李怡飘 | E7: 林学与风景园林学院 | F7: 风景园林 | G7: 086200 | H7: 全日制专业硕士 | I7: 风景园林 | J7: 4.36
A8: 6 | B8: 推荐免试 | C8: 20262160013 | D8: 王佳莉 | E8: 经济管理学院 | F8: 工商管理 | G8: 120200 | H8: 全日制学术硕士 | I8: 工商管理学 | J8: 4.51
A9: 7 | B9: 推荐免试 | C9: 20262110013 | D9: 刘彤 | E9: 公共管理学院 | F9: 行政管理 | G9: 120401 | H9: 全日制学术硕士 | I9: 公共管理学 | J9: 4.32
A10: 8 | B10: 推荐免试 | C10: 20262110027 | D10: 余晓彤 | E10: 公共管理学院 | F10: 行政管理 | G10: 120401 | H10: 全日制学术硕士 | I10: 公共管理学 | J10: 4.32
A11: 9 | B11: 推荐免试 | C11: 20262158018 | D11: 谭炜琪 | E11: 材料与化学工程学院 | F11: 化学工程与技术 | G11: 081700 | H11: 全日制学术硕士 | I11: 化学工程与技术 | J11: 4
A12: 10 | B12: 推荐免试 | C12: 20262167013 | D12: 张宗顺 | E12: 资源环境学院 | F12: 环境科学与工程 | G12: 083000 | H12: 全日制学术硕士 | I12: 环境科学与工程 | J12: 4.2
A13: 11 | B13: 推荐免试 | C13: 20263151020 | D13: 林彬彬 | E13: 经济管理学院 | F13: 会计 | G13: 125300 | H13: 全日制专业硕士 | I13: 会计 | J13: 4.13
A14: 12 | B14: 推荐免试 | C14: 20263173074 | D14: 薛浩权 | E14: 工程学院 | F14: 机械工程 | G14: 085501 | H14: 全日制专业硕士 | I14: 机械 | J14: 3.85
... A22: 20 | B22: 推荐免试 | C22: 20262168007 | D22: 莫颜萍 | E22: 工程学院 | F22: 农业工程 | G22: 082800 | H22: 全日制学术硕士 | I22: 农业工程 | J22: 4.109
A23: 21 | B23: 推荐免试 | C23: 20263194029 | D23: 潘春燕 | E23: 湾区设计与艺术学院 | F23: 设计 | G23: 135700 | H23: 全日制专业硕士 | I23: 设计 | J23: 4.33
A24: 22 | B24: 推荐免试 | C24: 20262195026 | D24: 朱天宇 | E24: 湾区设计与艺术学院 | F24: 设计学 | G24: 140300 | H24: 全日制学术硕士 | I24: 设计学 | J24: 4.29
A25: 23 | B25: 推荐免试 | C25: 20263125013 | D25: 纪睿琪 | E25: 公共管理学院 | F25: 社会工作 | G25: 035200 | H25: 全日制专业硕士 | I25: 社会工作 | J25: 4.23
A26: 24 | B26: 推荐免试 | C26: 20262005010 | D26: 骆雅妮 | E26: 资源环境学院 | F26: 生态学 | G26: 071300 | H26: 全日制学术硕士 | I26: 生态学 | J26: 4.16
A27: 25 | B27: 推荐免试 | C27: 20262190011 | D27: 陈可 | E27: 生命科学学院 | F27: 生物学 | G27: 071000 | H27: 全日制学术硕士 | I27: 生物学 | J27: 4.27
A28: 26 | B28: 推荐免试 | C28: 20263185110 | D28: 张恒烨 | E28: 食品学院 | F28: 食品工程 | G28: 086003 | H28: 全日制专业硕士 | I28: 生物与医药 | J28: 4.19
A29: 27 | B29: 推荐免试 | C29: 20262145003 | D29: 陈贝贝 | E29: 食品学院 | F29: 食品科学与工程 | G29: 083200 | H29: 全日制学术硕士 | I29: 食品科学与工程 | J29: 4.45
A30: 28 | B30: 推荐免试 | C30: 20263073137 | D30: 谢雨璇 | E30: 兽医学院 | F30: 兽医 | G30: 095200 | H30: 全日制专业硕士 | I30: 兽医 | J30: 4.21
A31: 29 | B31: 推荐免试 | C31: 20262199026 | D31: 侯俊泓 | E31: 兽医学院 | F31: 兽医学 | G31: 090600 | H31: 全日制学术硕士 | I31: 兽医学 | J31: 4.29
A32: 30 | B32: 推荐免试 | C32: 20252115010 | D32: 李钰琳 | E32: 数学与信息学院、软件学院 | F32: 数学 | G32: 070100 | H32: 全日制学术硕士 | I32: 数学 | J32: 4.02
A33: 31 | B33: 推荐免试 | C33: 20262150013 | D33: 邱佳弟 | E33: 海洋学院 | F33: 水产 | G33: 090800 | H33: 全日制学术硕士 | I33: 水产 | J33: 3.62
A34: 32 | B34: 推荐免试 | C34: 20263182007 | D34: 李瀚文 | E34: 水利与土木工程学院 | F34: 水利工程 | G34: 085902 | H34: 全日制专业硕士 | I34: 土木水利 | J34: 3.67
A35: 33 | B35: 推荐免试 | C35: 20263193015 | D35: 潘文樱 | E35: 湾区设计与艺术学院 | F35: 戏剧与影视 | G35: 135400 | H35: 全日制专业硕士 | I35: 戏剧与影视 | J35: 4
A36: 34 | B36: 推荐免试 | C36: 20262155021 | D36: 赵晶 | E36: 经济管理学院 | F36: 应用经济学 | G36: 020200 | H36: 全日制学术硕士 | I36: 应用经济学 | J36: 4.53
... A40: 38 | B40: 推荐免试 | C40: 20262200077 | D40: 谭丹明 | E40: 农学院 | F40: 作物学 | G40: 090100 | H40: 全日制学术硕士 | I40: 作物学 | J40: 4.38

Sheet 专硕前3%名单
A1: 2026级普通招考专业型硕士生入学考试初试成绩总分在本学科门类排名前3%名单
A2: 序号 | B2: 考试方式 | C2: 学号 | D2: 姓名 | E2: 录取院系 | F2: 录取专业 | G2: 录取专业代码 | H2: 学科门类 | I2: 总分
A3: 1 | B3: 全国统考 | C3: 20263124030 | D3: 赵腾辉 | E3: 经济管理学院 | F3: 金融 | G3: 025100 | H3: =VLOOKUP(G3,[1]专硕总表!$E:$M,9,0) -> 经济学 | I3: 405
A4: 2 | B4: 全国统考 | C4: 20263173084 | D4: 张鑫龙 | E4: 工程学院 | F4: 机械工程 | G4: 085501 | H4: =VLOOKUP(G4,[1]专硕总表!$E:$M,9,0) -> 工学 | I4: 421
A5: 3 | B5: 全国统考 | C5: 20263173063 | D5: 巫兆玮 | E5: 工程学院 | F5: 机械工程 | G5: 085501 | H5: =VLOOKUP(G5,[1]专硕总表!$E:$M,9,0) -> 工学 | I5: 421
A6: 4 | B6: 全国统考 | C6: 20263173088 | D6: 庄高荣 | E6: 工程学院 | F6: 机械工程 | G6: 085501 | H6: =VLOOKUP(G6,[1]专硕总表!$E:$M,9,0) -> 工学 | I6: 420
A7: 5 | B7: 全国统考 | C7: 20263173011 | D7: 陈阳阳 | E7: 工程学院 | F7: 机械工程 | G7: 085501 | H7: =VLOOKUP(G7,[1]专硕总表!$E:$M,9,0) -> 工学 | I7: 411
A8: 6 | B8: 全国统考 | C8: 20263180026 | D8: 叶兴祖 | E8: 资源环境学院 | F8: 测绘工程 | G8: 085704 | H8: =VLOOKUP(G8,[1]专硕总表!$E:$M,9,0) -> 工学 | I8: 411
A9: 7 | B9: 全国统考 | C9: 20263180023 | D9: 王子杰 | E9: 资源环境学院 | F9: 测绘工程 | G9: 085704 | H9: =VLOOKUP(G9,[1]专硕总表!$E:$M,9,0) -> 工学 | I9: 410
A10: 8 | B10: 全国统考 | C10: 20263173061 | D10: 王亚宝 | E10: 工程学院 | F10: 机械工程 | G10: 085501 | H10: =VLOOKUP(G10,[1]专硕总表!$E:$M,9,0) -> 工学 | I10: 410
A11: 9 | B11: 全国统考 | C11: 20263185052 | D11: 林翰 | E11: 食品学院 | F11: 食品工程 | G11: 086003 | H11: =VLOOKUP(G11,[1]专硕总表!$E:$M,9,0) -> 工学 | I11: 410
A12: 10 | B12: 全国统考 | C12: 20263180014 | D12: 梁喜康 | E12: 资源环境学院 | F12: 测绘工程 | G12: 085704 | H12: =VLOOKUP(G12,[1]专硕总表!$E:$M,9,0) -> 工学 | I12: 410
A13: 11 | B13: 全国统考 | C13: 20263184087 | D13: 杨诗怡 | E13: 生命科学学院 | F13: 生物技术与工程 | G13: 086001 | H13: =VLOOKUP(G13,[1]专硕总表!$E:$M,9,0) -> 工学 | I13: 409
A14: 12 | B14: 全国统考 | C14: 20263173072 | D14: 许锦程 | E14: 工程学院 | F14: 机械工程 | G14: 085501 | H14: =VLOOKUP(G14,[1]专硕总表!$E:$M,9,0) -> 工学 | I14: 408
... A29: 27 | B29: 全国统考 | C29: 20263173027 | D29: 黄泽洋 | E29: 工程学院 | F29: 机械工程 | G29: 085501 | H29: =VLOOKUP(G29,[1]专硕总表!$E:$M,9,0) -> 工学 | I29: 399
A30: 28 | B30: 全国统考 | C30: 20263201102 | D30: 张佳欣 | E30: 食品学院 | F30: 食品与营养 | G30: 095500 | H30: 工学 | I30: 398
A31: 29 | B31: 全国统考 | C31: 20263173029 | D31: 黄智城 | E31: 工程学院 | F31: 机械工程 | G31: 085501 | H31: =VLOOKUP(G31,[1]专硕总表!$E:$M,9,0) -> 工学 | I31: 398
A32: 30 | B32: 全国统考 | C32: 20263201029 | D32: 黄静怡 | E32: 食品学院 | F32: 食品与营养 | G32: 095500 | H32: 工学 | I32: 397
A33: 31 | B33: 全国统考 | C33: 20263201011 | D33: 邓月 | E33: 食品学院 | F33: 食品与营养 | G33: 095500 | H33: 工学 | I33: 397
A34: 32 | B34: 全国统考 | C34: 20263191048 | D34: 宁静 | E34: 林学与风景园林学院 | F34: 风景园林 | G34: 086200 | H34: =VLOOKUP(G34,[1]专硕总表!$E:$M,9,0) -> 工学 | I34: 397
A35: 33 | B35: 全国统考 | C35: 20263191010 | D35: 方心玥 | E35: 林学与风景园林学院 | F35: 风景园林 | G35: 086200 | H35: =VLOOKUP(G35,[1]专硕总表!$E:$M,9,0) -> 工学 | I35: 395
A36: 34 | B36: 全国统考 | C36: 20263143012 | D36: 胡秋玲 | E36: 经济管理学院 | F36: 农业管理 | G36: 095137 | H36: =VLOOKUP(G36,[1]专硕总表!$E:$M,9,0) -> 农学 | I36: 440
A37: 35 | B37: 全国统考 | C37: 20263143022 | D37: 刘香妮 | E37: 经济管理学院 | F37: 农业管理 | G37: 095137 | H37: =VLOOKUP(G37,[1]专硕总表!$E:$M,9,0) -> 农学 | I37: 428
A38: 36 | B38: 全国统考 | C38: 20263143079 | D38: 钟卫蓝 | E38: 经济管理学院 | F38: 农业管理 | G38: 095137 | H38: =VLOOKUP(G38,[1]专硕总表!$E:$M,9,0) -> 农学 | I38: 425
A39: 37 | B39: 全国统考 | C39: 20263143070 | D39: 余嘉颖 | E39: 经济管理学院 | F39: 农业管理 | G39: 095137 | H39: =VLOOKUP(G39,[1]专硕总表!$E:$M,9,0) -> 农学 | I39: 425
A40: 38 | B40: 全国统考 | C40: 20263144073 | D40: 陶柔 | E40: 公共管理学院 | F40: 农村发展 | G40: 095138 | H40: =VLOOKUP(G40,[1]专硕总表!$E:$M,9,0) -> 农学 | I40: 423
A41: 39 | B41: 全国统考 | C41: 20263144084 | D41: 吴祖婵 | E41: 公共管理学院 | F41: 农村发展 | G41: 095138 | H41: =VLOOKUP(G41,[1]专硕总表!$E:$M,9,0) -> 农学 | I41: 423
A42: 40 | B42: 全国统考 | C42: 20263143011 | D42: 洪康宁 | E42: 经济管理学院 | F42: 农业管理 | G42: 095137 | H42: =VLOOKUP(G42,[1]专硕总表!$E:$M,9,0) -> 农学 | I42: 422
A43: 41 | B43: 全国统考 | C43: 20263144034 | D43: 李瑛琪 | E43: 公共管理学院 | F43: 农村发展 | G43: 095138 | H43: =VLOOKUP(G43,[1]专硕总表!$E:$M,9,0) -> 农学 | I43: 420
A44: 42 | B44: 全国统考 | C44: 20263143046 | D44: 唐小雅 | E44: 经济管理学院 | F44: 农业管理 | G44: 095137 | H44: =VLOOKUP(G44,[1]专硕总表!$E:$M,9,0) -> 农学 | I44: 420
A45: 43 | B45: 全国统考 | C45: 20263143043 | D45: 苏美琪 | E45: 经济管理学院 | F45: 农业管理 | G45: 095137 | H45: =VLOOKUP(G45,[1]专硕总表!$E:$M,9,0) -> 农学 | I45: 420
... A86: 84 | B86: 全国统考 | C86: 20263192023 | D86: 谢瑶瑶 | E86: 外国语学院 | F86: 英语笔译 | G86: 055101 | H86: =VLOOKUP(G86,[1]专硕总表!$E:$M,9,0) -> 文学 | I86: 415

Sheet 学硕前3%名单
A1: 2026级普通招考学术型硕士生入学考试初试成绩总分在本学科门类排名前3%名单
A2: 序号 | B2: 考试方式 | C2: 学号 | D2: 姓名 | E2: 录取院系 | F2: 录取专业 | G2: 录取专业代码 | H2: 学科门类 | I2: 总分
A3: 1 | B3: 全国统考 | C3: 20262187015 | D3: 刘洋 | E3: 马克思主义学院 | F3: 马克思主义理论 | G3: 030500 | H3: =VLOOKUP(G3,'[2]学硕3%总名单'!$F:$M,8,0) -> 法学 | I3: 423
A4: 2 | B4: 全国统考 | C4: 20262145027 | D4: 李泳桐 | E4: 食品学院 | F4: 食品科学与工程 | G4: 083200 | H4: =VLOOKUP(G4,'[2]学硕3%总名单'!$F:$M,8,0) -> 工学 | I4: 409
A5: 3 | B5: 全国统考 | C5: 20262145028 | D5: 连初金 | E5: 食品学院 | F5: 食品科学与工程 | G5: 083200 | H5: =VLOOKUP(G5,'[2]学硕3%总名单'!$F:$M,8,0) -> 工学 | I5: 403
A6: 4 | B6: 全国统考 | C6: 20262167006 | D6: 廖明炜 | E6: 资源环境学院 | F6: 环境科学与工程 | G6: 083000 | H6: =VLOOKUP(G6,'[2]学硕3%总名单'!$F:$M,8,0) -> 工学 | I6: 401
A7: 5 | B7: 全国统考 | C7: 20262145054 | D7: 曾传远 | E7: 食品学院 | F7: 食品科学与工程 | G7: 083200 | H7: =VLOOKUP(G7,'[2]学硕3%总名单'!$F:$M,8,0) -> 工学 | I7: 393
A8: 6 | B8: 全国统考 | C8: 20262145031 | D8: 卢洁莹 | E8: 食品学院 | F8: 食品科学与工程 | G8: 083200 | H8: =VLOOKUP(G8,'[2]学硕3%总名单'!$F:$M,8,0) -> 工学 | I8: 388
A9: 7 | B9: 全国统考 | C9: 20262145029 | D9: 梁鹏浩 | E9: 食品学院 | F9: 食品科学与工程 | G9: 083200 | H9: =VLOOKUP(G9,'[2]学硕3%总名单'!$F:$M,8,0) -> 工学 | I9: 387
A10: 8 | B10: 全国统考 | C10: 20262110008 | D10: 李文芊 | E10: 公共管理学院 | F10: 行政管理 | G10: 120401 | H10: 管理学 | I10: 425
A11: 9 | B11: 全国统考 | C11: 20262195008 | D11: 何金航 | E11: 湾区设计与艺术学院 | F11: 设计学 | G11: 140300 | H11: =VLOOKUP(G11,'[2]学硕3%总名单'!$F:$M,8,0) -> 交叉学科 | I11: 402
A12: 10 | B12: 全国统考 | C12: 20262155019 | D12: 吴嘉燕 | E12: 经济管理学院 | F12: 应用经济学 | G12: 020200 | H12: =VLOOKUP(G12,'[2]学硕3%总名单'!$F:$M,8,0) -> 经济学 | I12: 383
A13: 11 | B13: 全国统考 | C13: 20262005008 | D13: 梁韬 | E13: 资源环境学院 | F13: 生态学 | G13: 071300 | H13: 理学 | I13: 416
A14: 12 | B14: 全国统考 | C14: 20262190063 | D14: 严艳晴 | E14: 生命科学学院 | F14: 生物学 | G14: 071000 | H14: =VLOOKUP(G14,'[2]学硕3%总名单'!$F:$M,8,0) -> 理学 | I14: 407
A15: 13 | B15: 全国统考 | C15: 20262006008 | D15: 李懿 | E15: 人文与法学学院 | F15: 科学技术史 | G15: 071200 | H15: 理学 | I15: 404
A16: 14 | B16: 全国统考 | C16: 20262190048 | D16: 罗圣杰 | E16: 生命科学学院 | F16: 生物学 | G16: 071000 | H16: =VLOOKUP(G16,'[2]学硕3%总名单'!$F:$M,8,0) -> 理学 | I16: 400
A17: 15 | B17: 全国统考 | C17: 20262148009 | D17: 薛中华 | E17: 人文与法学学院 | F17: 中国史 | G17: 060200 | H17: =VLOOKUP(G17,'[2]学硕3%总名单'!$F:$M,8,0) -> 历史学 | I17: 379
A18: 16 | B18: 全国统考 | C18: 20262159026 | D18: 柳亦男 | E18: 林学与风景园林学院 | F18: 林学 | G18: 090700 | H18: =VLOOKUP(G18,'[2]学硕3%总名单'!$F:$M,8,0) -> 农学 | I18: 413
A19: 17 | B19: 全国统考 | C19: 20262199116 | D19: 赵文瑞 | E19: 兽医学院 | F19: 兽医学 | G19: 090600 | H19: 农学 | I19: 407
A20: 18 | B20: 全国统考 | C20: 20262199119 | D20: 郑雨瑶 | E20: 兽医学院 | F20: 兽医学 | G20: 090600 | H20: 农学 | I20: 406
A21: 19 | B21: 全国统考 | C21: 20262025002 | D21: 陈薪宇 | E21: 动物科学学院 | F21: 动物营养与饲料科学 | G21: 090502 | H21: =VLOOKUP(G21,'[2]学硕3%总名单'!$F:$M,8,0) -> 农学 | I21: 403
A22: 20 | B22: 全国统考 | C22: 20262026004 | D22: 李海昕 | E22: 动物科学学院 | F22: 特种经济动物饲养 | G22: 090504 | H22: 农学 | I22: 403
A23: 21 | B23: 全国统考 | C23: 20262025028 | D23: 史瑞昌 | E23: 动物科学学院 | F23: 动物营养与饲料科学 | G23: 090502 | H23: =VLOOKUP(G23,'[2]学硕3%总名单'!$F:$M,8,0) -> 农学 | I23: 401
A24: 22 | B24: 全国统考 | C24: 20262025010 | D24: 过文真 | E24: 动物科学学院 | F24: 动物营养与饲料科学 | G24: 090502 | H24: =VLOOKUP(G24,'[2]学硕3%总名单'!$F:$M,8,0) -> 农学 | I24: 399
A25: 23 | B25: 全国统考 | C25: 20262159040 | D25: 谢帆 | E25: 林学与风景园林学院 | F25: 林学 | G25: 090700 | H25: =VLOOKUP(G25,'[2]学硕3%总名单'!$F:$M,8,0) -> 农学 | I25: 398
A26: 24 | B26: 全国统考 | C26: 20262200065 | D26: 潘玉芳 | E26: 农学院 | F26: 作物学 | G26: 090100 | H26: 农学 | I26: 398
A27: 25 | B27: 全国统考 | C27: 20262021008 | D27: 黄小芮 | E27: 植物保护学院 | F27: 植物病理学 | G27: 090401 | H27: =VLOOKUP(G27,'[2]学硕3%总名单'!$F:$M,8,0) -> 农学 | I27: 396
A28: 26 | B28: 全国统考 | C28: 20262150018 | D28: 杨振江 | E28: 海洋学院 | F28: 水产 | G28: 090800 | H28: 农学 | I28: 395
A29: 27 | B29: 全国统考 | C29: 20262200086 | D29: 王力 | E29: 农学院 | F29: 作物学 | G29: 090100 | H29: 农学 | I29: 395
A30: 28 | B30: 全国统考 | C30: 20262199019 | D30: 谷泽林 | E30: 兽医学院 | F30: 兽医学 | G30: 090600 | H30: 农学 | I30: 392
A31: 29 | B31: 全国统考 | C31: 20262150001 | D31: 段勇 | E31: 海洋学院 | F31: 水产 | G31: 090800 | H31: 农学 | I31: 391
A32: 30 | B32: 全国统考 | C32: 20262021015 | D32: 梁宇林 | E32: 植物保护学院 | F32: 植物病理学 | G32: 090401 | H32: =VLOOKUP(G32,'[2]学硕3%总名单'!$F:$M,8,0) -> 农学 | I32: 390
A33: 31 | B33: 全国统考 | C33: 20262199021 | D33: 郭伟良 | E33: 兽医学院 | F33: 兽医学 | G33: 090600 | H33: 农学 | I33: 390
